BEGIN:VCALENDAR
VERSION:2.0
PRODID:-//Bruce Springsteen Center for American Music - ECPv6.15.20//NONSGML v1.0//EN
CALSCALE:GREGORIAN
METHOD:PUBLISH
X-ORIGINAL-URL:https://springsteencenter.org
X-WR-CALDESC:Events for Bruce Springsteen Center for American Music
REFRESH-INTERVAL;VALUE=DURATION:PT1H
X-Robots-Tag:noindex
X-PUBLISHED-TTL:PT1H
BEGIN:VTIMEZONE
TZID:America/New_York
BEGIN:DAYLIGHT
TZOFFSETFROM:-0500
TZOFFSETTO:-0400
TZNAME:EDT
DTSTART:20230312T070000
END:DAYLIGHT
BEGIN:STANDARD
TZOFFSETFROM:-0400
TZOFFSETTO:-0500
TZNAME:EST
DTSTART:20231105T060000
END:STANDARD
BEGIN:DAYLIGHT
TZOFFSETFROM:-0500
TZOFFSETTO:-0400
TZNAME:EDT
DTSTART:20240310T070000
END:DAYLIGHT
BEGIN:STANDARD
TZOFFSETFROM:-0400
TZOFFSETTO:-0500
TZNAME:EST
DTSTART:20241103T060000
END:STANDARD
BEGIN:DAYLIGHT
TZOFFSETFROM:-0500
TZOFFSETTO:-0400
TZNAME:EDT
DTSTART:20250309T070000
END:DAYLIGHT
BEGIN:STANDARD
TZOFFSETFROM:-0400
TZOFFSETTO:-0500
TZNAME:EST
DTSTART:20251102T060000
END:STANDARD
BEGIN:DAYLIGHT
TZOFFSETFROM:-0500
TZOFFSETTO:-0400
TZNAME:EDT
DTSTART:20260308T070000
END:DAYLIGHT
BEGIN:STANDARD
TZOFFSETFROM:-0400
TZOFFSETTO:-0500
TZNAME:EST
DTSTART:20261101T060000
END:STANDARD
END:VTIMEZONE
BEGIN:VEVENT
DTSTART;TZID=America/New_York:20250207T190000
DTEND;TZID=America/New_York:20250207T190000
DTSTAMP:20260421T070308
CREATED:20250326T193519Z
LAST-MODIFIED:20250326T193843Z
UID:10000058-1738954800-1738954800@springsteencenter.org
SUMMARY:A History of Hip Hop Sampling
DESCRIPTION:Join music journalists John Morrison and Josh Leidy for a multimedia presentation on the history of hip-hop culture and the cultural and technological evolution of sampling\, followed by performances by Blue Hawk Records Student/Artists.  \n\n\n\nCo-sponsored by the BSACAM and the Monmouth University Music and Theatre Arts Department \n\n\n\nFriday\, February 7 at 7 p.m. Woods Theatre at Monmouth University 400 Cedar Avenue\, West Long Branch\, NJ 07764 \n\n\n\nFree parking; see campus map here. Free and open to all; register here. \n\n\n\nQuestions? Email Professor Melissa Ziobro\, BSACAM Curator\, mziobro@monmouth.edu
URL:https://springsteencenter.org/event/a-history-of-hip-hop-sampling/
LOCATION:Woods Theatre\, 370 Cedar Ave\, Long Branch\, NJ\, 07740\, United States
ATTACH;FMTTYPE=image/jpeg:https://springsteencenter.org/wp-content/uploads/sites/1218/2025/01/hip-hop.jpg
END:VEVENT
BEGIN:VEVENT
DTSTART;TZID=America/New_York:20240607T200000
DTEND;TZID=America/New_York:20240607T220000
DTSTAMP:20260421T070308
CREATED:20250326T201755Z
LAST-MODIFIED:20250326T201755Z
UID:10000086-1717790400-1717797600@springsteencenter.org
SUMMARY:Mississippi Delta Meets the Jersey Shore
DESCRIPTION:Experience the magic on Friday\, June 7th at 8pm when the Mississippi Delta Meets the Jersey Shore!  Featuring LaLa and Element 88 at Woods Theatre.  Tickets are $30 and can be purchased at the Monmouth University Box Office or at the link below.  Doors open at 7pm. Show is from 8 to 10 pm.
URL:https://springsteencenter.org/event/mississippi-delta-meets-the-jersey-shore/
LOCATION:Woods Theatre\, 370 Cedar Ave\, Long Branch\, NJ\, 07740\, United States
ATTACH;FMTTYPE=image/jpeg:https://springsteencenter.org/wp-content/uploads/sites/1218/2024/05/LaLa-Craig-2.jpg
ORGANIZER;CN="Bruce Springsteen Center for American Music":MAILTO:happenings@springsteenarchives.org
END:VEVENT
END:VCALENDAR