BEGIN:VCALENDAR
VERSION:2.0
PRODID:-//Bruce Springsteen Center for American Music - ECPv6.15.20//NONSGML v1.0//EN
CALSCALE:GREGORIAN
METHOD:PUBLISH
X-WR-CALNAME:Bruce Springsteen Center for American Music
X-ORIGINAL-URL:https://springsteencenter.org
X-WR-CALDESC:Events for Bruce Springsteen Center for American Music
REFRESH-INTERVAL;VALUE=DURATION:PT1H
X-Robots-Tag:noindex
X-PUBLISHED-TTL:PT1H
BEGIN:VTIMEZONE
TZID:America/New_York
BEGIN:DAYLIGHT
TZOFFSETFROM:-0500
TZOFFSETTO:-0400
TZNAME:EDT
DTSTART:20240310T070000
END:DAYLIGHT
BEGIN:STANDARD
TZOFFSETFROM:-0400
TZOFFSETTO:-0500
TZNAME:EST
DTSTART:20241103T060000
END:STANDARD
BEGIN:DAYLIGHT
TZOFFSETFROM:-0500
TZOFFSETTO:-0400
TZNAME:EDT
DTSTART:20250309T070000
END:DAYLIGHT
BEGIN:STANDARD
TZOFFSETFROM:-0400
TZOFFSETTO:-0500
TZNAME:EST
DTSTART:20251102T060000
END:STANDARD
BEGIN:DAYLIGHT
TZOFFSETFROM:-0500
TZOFFSETTO:-0400
TZNAME:EDT
DTSTART:20260308T070000
END:DAYLIGHT
BEGIN:STANDARD
TZOFFSETFROM:-0400
TZOFFSETTO:-0500
TZNAME:EST
DTSTART:20261101T060000
END:STANDARD
END:VTIMEZONE
BEGIN:VEVENT
DTSTART;TZID=America/New_York:20251005T130000
DTEND;TZID=America/New_York:20251005T163000
DTSTAMP:20260421T081127
CREATED:20250828T190710Z
LAST-MODIFIED:20250828T191127Z
UID:10000139-1759669200-1759681800@springsteencenter.org
SUMMARY:Echoes Across the Border: Laurel Canyon Film Screening
DESCRIPTION:Join us on Sunday\, October 5 for a matinee screening of Laurel Canyon. The 2020 documentary gives an up-close look at the lives of the musicians who inhabited Laurel Canyon\, painting an intimate portrait of the artists who created a music revolution that would change popular culture. \nThis film screening is part of the Echoes Across the Border: Laurel Canyon and the Northern Connection music summit presented by the National Music Centre in collaboration with the Bruce Springsteen Archives & Center for American Music. The summit brings together industry leaders to discuss how cross-border Canadian-U.S. influences have shaped generations of artists\, with a special focus on the ’60s and ’70s Laurel Canyon era\, where songwriting visionaries like Joni Mitchell and Neil Young made their mark at home and beyond. \n\n\n\n\n\nLaurel Canyon (2020)\nLaurel Canyon is a two-part documentary series\, directed by Alison Ellwood\, that features an intimate portrait of the artists who created a music revolution through a wealth of rare and newly unearthed footage and audio recordings. \nFeaturing all-new\, original interviews with Jackson Browne\, Don Henley\, Michelle Phillips\, Graham Nash\, Linda Ronstadt\, Bonnie Raitt\, Roger McGuinn and more\, the uniquely immersive and experiential docuseries takes us back in time to a place where a rustic canyon in the heart of Los Angeles became a musical petri dish. \n1:00 pm – Episode 1 (80 minutes)\n2:30 pm – Intermission\n3:00 pm – Episode 2 (80 minutes)\n4:30 pm – Screening ends
URL:https://springsteencenter.org/event/echoes-across-the-border-laurel-canyon-film-screening/
LOCATION:Studio Bell\, 850 4 St. SE\, Calgary\, AB T2G 1R1\, Canada
ATTACH;FMTTYPE=image/png:https://springsteencenter.org/wp-content/uploads/sites/1218/2025/08/Echoes_2025-Press-Release.png
END:VEVENT
BEGIN:VEVENT
DTSTART;TZID=America/New_York:20251004T080000
DTEND;TZID=America/New_York:20251004T153000
DTSTAMP:20260421T081127
CREATED:20250828T190259Z
LAST-MODIFIED:20250828T190806Z
UID:10000138-1759564800-1759591800@springsteencenter.org
SUMMARY:Echoes Across the Border: Laurel Canyon and the Northern Connection (Music Summit and Film Screening)
DESCRIPTION:In collaboration with the Bruce Springsteen Archives & Center for American Music (BSACAM)\, the National Music Centre (NMC) brings notable speakers to Calgary to explore the cultural synergies between Canadian and American music. \nEchoes Across the Border: Laurel Canyon and the Northern Connection brings together industry leaders to discuss how cross-border Canadian-U.S. influences have shaped generations of artists\, with a special focus on the ’60s and ’70s Laurel Canyon era\, where songwriting visionaries like Joni Mitchell and Neil Young made their mark at home and beyond. \nThis summit includes a carefully curated lineup of speakers from Canada and the U.S.\, including Rob Bowman\, a Canadian GRAMMY Award-winning musicologist\, known as York University’s “rock ‘n’ roll professor”; Nicholas Jennings\, one of Canada’s most respected music journalists and finest music historians; Eileen Chapman\, Director of the Bruce Springsteen Archives & Center for American Music at Monmouth University in New Jersey\, who was responsible for bringing the collection to the University; Robert Santelli\, a GRAMMY Award-winning music historian\, producer\, and educator\, who is the Executive Director of the Bruce Springsteen Archives & Center for American Music; and more speakers to be announced soon. \n\n\n\n\n\nSummit Schedule — Saturday\, October 4\n\n\n\n\n\n\n\n\n\n\n8:00 am\nDoors open and welcome breakfast reception\n\n\n9:00 am\nOpening remarks and Keynote\n\n\n9:55 am\nPanel 1: Artist-Friendly Labels & Managers: The Architects of Creative Freedom\n\n\n10:55 am\nPanel 2: From Concrete to Canyon: The Counterculture’s Rural Rebellion\n\n\n11:45 am\nLunch break\n\n\n12:30 pm\nPanel 3: 1968–1972: The Sound Evolves\n\n\n1:25 pm\nPanel 4: Hitmakers’ Blueprint: Crafting Songs for the Airwaves\n\n\n2:25 pm\nPanel 5: Modern Echoes: Today’s Artists on the Canyon Legacy
URL:https://springsteencenter.org/event/echoes-across-the-border-laurel-canyon-and-the-northern-connection-music-summit-and-film-screening/
LOCATION:Studio Bell\, 850 4 St. SE\, Calgary\, AB T2G 1R1\, Canada
ATTACH;FMTTYPE=image/png:https://springsteencenter.org/wp-content/uploads/sites/1218/2025/08/Echoes_2025-Press-Release.png
END:VEVENT
END:VCALENDAR