BEGIN:VCALENDAR
VERSION:2.0
PRODID:-//Bruce Springsteen Center for American Music - ECPv6.15.20//NONSGML v1.0//EN
CALSCALE:GREGORIAN
METHOD:PUBLISH
X-WR-CALNAME:Bruce Springsteen Center for American Music
X-ORIGINAL-URL:https://springsteencenter.org
X-WR-CALDESC:Events for Bruce Springsteen Center for American Music
REFRESH-INTERVAL;VALUE=DURATION:PT1H
X-Robots-Tag:noindex
X-PUBLISHED-TTL:PT1H
BEGIN:VTIMEZONE
TZID:America/New_York
BEGIN:DAYLIGHT
TZOFFSETFROM:-0500
TZOFFSETTO:-0400
TZNAME:EDT
DTSTART:20240310T070000
END:DAYLIGHT
BEGIN:STANDARD
TZOFFSETFROM:-0400
TZOFFSETTO:-0500
TZNAME:EST
DTSTART:20241103T060000
END:STANDARD
BEGIN:DAYLIGHT
TZOFFSETFROM:-0500
TZOFFSETTO:-0400
TZNAME:EDT
DTSTART:20250309T070000
END:DAYLIGHT
BEGIN:STANDARD
TZOFFSETFROM:-0400
TZOFFSETTO:-0500
TZNAME:EST
DTSTART:20251102T060000
END:STANDARD
BEGIN:DAYLIGHT
TZOFFSETFROM:-0500
TZOFFSETTO:-0400
TZNAME:EDT
DTSTART:20260308T070000
END:DAYLIGHT
BEGIN:STANDARD
TZOFFSETFROM:-0400
TZOFFSETTO:-0500
TZNAME:EST
DTSTART:20261101T060000
END:STANDARD
END:VTIMEZONE
BEGIN:VEVENT
DTSTART;TZID=America/New_York:20250907T080000
DTEND;TZID=America/New_York:20250907T183000
DTSTAMP:20260421T070924
CREATED:20250724T154556Z
LAST-MODIFIED:20250907T010608Z
UID:10000124-1757232000-1757269800@springsteencenter.org
SUMMARY:Academic Conference: Bruce Springsteen’s “Born to Run” at 50
DESCRIPTION:The Bruce Springsteen Archives & Center for American Music and the Wayne D. McMurray School of Humanities and Social Sciences will be hosting an academic conference devoted to the life\, work\, and influence of “The Boss” in honor of the 50th anniversary of the landmark Born to Run album’s 1975 release. Tickets are $100.\n					\n									View the official conference program
URL:https://springsteencenter.org/event/academic-conference-bruce-springsteens-born-to-run-at-50/
LOCATION:Monmouth University\, 400 Cedar Avenue\, W. Long Branch\, NJ\, 07764\, United States
ATTACH;FMTTYPE=image/png:https://springsteencenter.org/wp-content/uploads/sites/1218/2025/07/Bruce1080.png
ORGANIZER;CN="Bruce Springsteen Center for American Music":MAILTO:happenings@springsteenarchives.org
END:VEVENT
END:VCALENDAR