BEGIN:VCALENDAR
VERSION:2.0
PRODID:-//Bruce Springsteen Center for American Music - ECPv6.15.20//NONSGML v1.0//EN
CALSCALE:GREGORIAN
METHOD:PUBLISH
X-WR-CALNAME:Bruce Springsteen Center for American Music
X-ORIGINAL-URL:https://springsteencenter.org
X-WR-CALDESC:Events for Bruce Springsteen Center for American Music
REFRESH-INTERVAL;VALUE=DURATION:PT1H
X-Robots-Tag:noindex
X-PUBLISHED-TTL:PT1H
BEGIN:VTIMEZONE
TZID:America/New_York
BEGIN:DAYLIGHT
TZOFFSETFROM:-0500
TZOFFSETTO:-0400
TZNAME:EDT
DTSTART:20250309T070000
END:DAYLIGHT
BEGIN:STANDARD
TZOFFSETFROM:-0400
TZOFFSETTO:-0500
TZNAME:EST
DTSTART:20251102T060000
END:STANDARD
BEGIN:DAYLIGHT
TZOFFSETFROM:-0500
TZOFFSETTO:-0400
TZNAME:EDT
DTSTART:20260308T070000
END:DAYLIGHT
BEGIN:STANDARD
TZOFFSETFROM:-0400
TZOFFSETTO:-0500
TZNAME:EST
DTSTART:20261101T060000
END:STANDARD
BEGIN:DAYLIGHT
TZOFFSETFROM:-0500
TZOFFSETTO:-0400
TZNAME:EDT
DTSTART:20270314T070000
END:DAYLIGHT
BEGIN:STANDARD
TZOFFSETFROM:-0400
TZOFFSETTO:-0500
TZNAME:EST
DTSTART:20271107T060000
END:STANDARD
END:VTIMEZONE
BEGIN:VEVENT
DTSTART;TZID=America/New_York:20260415T190000
DTEND;TZID=America/New_York:20260415T190000
DTSTAMP:20260421T111513
CREATED:20260213T190224Z
LAST-MODIFIED:20260226T162150Z
UID:28398-1776279600-1776279600@springsteencenter.org
SUMMARY:Talk: What America Sounds Like: 250 Years of American Music with the Passaic County Arts Center
DESCRIPTION:This interactive\, multi-media talk by Melissa Ziobro\, Director of Curatorial Affairs for the Bruce Springsteen Center for American Music\, provides a look at the iconic music that helps us understand our shared history as we approach the 250th anniversary of American independence. Special emphasis is given to Thomas Edison\, Paul Robeson\, James P. Johnson\, Frank Sinatra\, Whitney Houston\, Paul Simon\, Bruce Springsteen\, Queen Latifah\, Bon Jovi\, and others from NJ who have contributed so much to the American music landscape.\n\nSee more at: https://seepassaiccounty.org/exhibitions/born-to-run-at-50/
URL:https://springsteencenter.org/event/talk-what-america-sounds-like-250-years-of-american-music-with-the-passaic-county-arts-center/
LOCATION:Passaic County Arts Center at the John W. Rea House\, 675 Goffle Road\, Hawthorne\, New Jersey\, 07506\, United States
ATTACH;FMTTYPE=image/png:https://springsteencenter.org/wp-content/uploads/sites/1218/2026/02/B2R-3_5.png
END:VEVENT
END:VCALENDAR