BEGIN:VCALENDAR
VERSION:2.0
PRODID:-//Bruce Springsteen Center for American Music - ECPv6.15.20//NONSGML v1.0//EN
CALSCALE:GREGORIAN
METHOD:PUBLISH
X-WR-CALNAME:Bruce Springsteen Center for American Music
X-ORIGINAL-URL:https://springsteencenter.org
X-WR-CALDESC:Events for Bruce Springsteen Center for American Music
REFRESH-INTERVAL;VALUE=DURATION:PT1H
X-Robots-Tag:noindex
X-PUBLISHED-TTL:PT1H
BEGIN:VTIMEZONE
TZID:America/New_York
BEGIN:DAYLIGHT
TZOFFSETFROM:-0500
TZOFFSETTO:-0400
TZNAME:EDT
DTSTART:20240310T070000
END:DAYLIGHT
BEGIN:STANDARD
TZOFFSETFROM:-0400
TZOFFSETTO:-0500
TZNAME:EST
DTSTART:20241103T060000
END:STANDARD
BEGIN:DAYLIGHT
TZOFFSETFROM:-0500
TZOFFSETTO:-0400
TZNAME:EDT
DTSTART:20250309T070000
END:DAYLIGHT
BEGIN:STANDARD
TZOFFSETFROM:-0400
TZOFFSETTO:-0500
TZNAME:EST
DTSTART:20251102T060000
END:STANDARD
BEGIN:DAYLIGHT
TZOFFSETFROM:-0500
TZOFFSETTO:-0400
TZNAME:EDT
DTSTART:20260308T070000
END:DAYLIGHT
BEGIN:STANDARD
TZOFFSETFROM:-0400
TZOFFSETTO:-0500
TZNAME:EST
DTSTART:20261101T060000
END:STANDARD
END:VTIMEZONE
BEGIN:VEVENT
DTSTART;TZID=America/New_York:20250313T080000
DTEND;TZID=America/New_York:20250330T170000
DTSTAMP:20260421T065424
CREATED:20250326T192643Z
LAST-MODIFIED:20250326T192643Z
UID:13257-1741852800-1743354000@springsteencenter.org
SUMMARY:Registration Open for the 2nd Annual Move On Up Gospel Event until March 30th
DESCRIPTION:Registration is open for the 2nd annual Move on Up Gospel Sing-Off.  \nThe event celebrating gospel music is being presented by the Bruce Springsteen Archives & Center for American Music with support from Doug Gallagher. \nThe winning choir will receive a $10\,000 award to be used to improve any aspect of its ensemble.  The runner-up will receive a $5\,000 award. Six choirs will be chosen from the entries to participate in a “sing-off” to determine the winner. Participants in this year’s sing-off will be announced in early April. \nAny New Jersey-based church or community choir can easily register for the event online and submit a video from a cell phone. All levels of choirs and praise teams are welcome to participate. \n “Move on Up is less a competition than a celebration\,” added Robert Santelli\, executive director of the Bruce Springsteen Archives & Center for American Music.  “It’s a showcase of gospel talent\, a tribute to gospel music\, and a chance to award prize money to be used to elevate the contemporary sounds of the music.” \nRegistration will close on March 30th. Move on Up! finals will take place on Saturday\, May 10th at 2pm in Pollak Theatre on the campus of Monmouth University.  Admission is free.
URL:https://springsteencenter.org/event/registration-open-for-the-2nd-annual-move-on-up-gospel-event-until-march-30th/
ATTACH;FMTTYPE=image/png:https://springsteencenter.org/wp-content/uploads/sites/1218/2025/03/gospelregistration330.png
END:VEVENT
END:VCALENDAR