BEGIN:VCALENDAR
VERSION:2.0
PRODID:-//Bruce Springsteen Center for American Music - ECPv6.15.20//NONSGML v1.0//EN
CALSCALE:GREGORIAN
METHOD:PUBLISH
X-WR-CALNAME:Bruce Springsteen Center for American Music
X-ORIGINAL-URL:https://springsteencenter.org
X-WR-CALDESC:Events for Bruce Springsteen Center for American Music
REFRESH-INTERVAL;VALUE=DURATION:PT1H
X-Robots-Tag:noindex
X-PUBLISHED-TTL:PT1H
BEGIN:VTIMEZONE
TZID:America/New_York
BEGIN:DAYLIGHT
TZOFFSETFROM:-0500
TZOFFSETTO:-0400
TZNAME:EDT
DTSTART:20230312T070000
END:DAYLIGHT
BEGIN:STANDARD
TZOFFSETFROM:-0400
TZOFFSETTO:-0500
TZNAME:EST
DTSTART:20231105T060000
END:STANDARD
BEGIN:DAYLIGHT
TZOFFSETFROM:-0500
TZOFFSETTO:-0400
TZNAME:EDT
DTSTART:20240310T070000
END:DAYLIGHT
BEGIN:STANDARD
TZOFFSETFROM:-0400
TZOFFSETTO:-0500
TZNAME:EST
DTSTART:20241103T060000
END:STANDARD
BEGIN:DAYLIGHT
TZOFFSETFROM:-0500
TZOFFSETTO:-0400
TZNAME:EDT
DTSTART:20250309T070000
END:DAYLIGHT
BEGIN:STANDARD
TZOFFSETFROM:-0400
TZOFFSETTO:-0500
TZNAME:EST
DTSTART:20251102T060000
END:STANDARD
END:VTIMEZONE
BEGIN:VEVENT
DTSTART;VALUE=DATE:20240215
DTEND;VALUE=DATE:20240216
DTSTAMP:20260421T093511
CREATED:20250326T202229Z
LAST-MODIFIED:20250326T202229Z
UID:13376-1707955200-1708041599@springsteencenter.org
SUMMARY:Music America Concert: Songs That Shaped Us
DESCRIPTION:Lyle Lovett\, Alejandro Escovedo\, Ruthie Foster\, Jimmie Vaughan and Erika Wennerstrom will perform at a February 15 concert\, Music America: Songs That Shaped Us.\n\n \n\nPerformances kick off a new Bruce Springsteen Archives music history exhibition opening Presidents’ Day weekend at the LBJ Presidential Library.
URL:https://springsteencenter.org/event/music-america-concert-songs-that-shaped-us/
ATTACH;FMTTYPE=image/jpeg:https://springsteencenter.org/wp-content/uploads/sites/1218/2024/02/LyleColor_HIres-.jpg
END:VEVENT
END:VCALENDAR