BEGIN:VCALENDAR
VERSION:2.0
PRODID:-//Bruce Springsteen Center for American Music - ECPv6.15.20//NONSGML v1.0//EN
CALSCALE:GREGORIAN
METHOD:PUBLISH
X-WR-CALNAME:Bruce Springsteen Center for American Music
X-ORIGINAL-URL:https://springsteencenter.org
X-WR-CALDESC:Events for Bruce Springsteen Center for American Music
REFRESH-INTERVAL;VALUE=DURATION:PT1H
X-Robots-Tag:noindex
X-PUBLISHED-TTL:PT1H
BEGIN:VTIMEZONE
TZID:America/New_York
BEGIN:DAYLIGHT
TZOFFSETFROM:-0500
TZOFFSETTO:-0400
TZNAME:EDT
DTSTART:20230312T070000
END:DAYLIGHT
BEGIN:STANDARD
TZOFFSETFROM:-0400
TZOFFSETTO:-0500
TZNAME:EST
DTSTART:20231105T060000
END:STANDARD
BEGIN:DAYLIGHT
TZOFFSETFROM:-0500
TZOFFSETTO:-0400
TZNAME:EDT
DTSTART:20240310T070000
END:DAYLIGHT
BEGIN:STANDARD
TZOFFSETFROM:-0400
TZOFFSETTO:-0500
TZNAME:EST
DTSTART:20241103T060000
END:STANDARD
BEGIN:DAYLIGHT
TZOFFSETFROM:-0500
TZOFFSETTO:-0400
TZNAME:EDT
DTSTART:20250309T070000
END:DAYLIGHT
BEGIN:STANDARD
TZOFFSETFROM:-0400
TZOFFSETTO:-0500
TZNAME:EST
DTSTART:20251102T060000
END:STANDARD
END:VTIMEZONE
BEGIN:VEVENT
DTSTART;TZID=America/New_York:20240817T140000
DTEND;TZID=America/New_York:20240817T140000
DTSTAMP:20260421T070736
CREATED:20250326T200816Z
LAST-MODIFIED:20250326T200816Z
UID:13331-1723903200-1723903200@springsteencenter.org
SUMMARY:Meet the Author at the AP Outpost!
DESCRIPTION:PHOTOGRAPHER\, NICKI GERMAINE: SPRINGSTEEN: LIBERTY HALL – Saturday\, August 17th at 2pm\n\n \n\nWe are looking forward to several upcoming book signings at our pop-up shop in Convention Hall in Asbury Park. First up at the Springsteen AP Outpost is photographer\, Nicki Germaine. Nicki’s beautiful coffee table book\, “Springsteen: Liberty Hall” will be available for purchase or you can bring your pre-purchased copy and she will be happy to sign it for you. The photographs captured in this book in 1974 were the last taken before the debut of the “Born to Run” album that changed everything for Bruce & the E Street Band and propelled them into the national spotlight. Nicki will be signing books beginning at 2pm on Saturday\, August 17th.
URL:https://springsteencenter.org/event/meet-the-author-at-the-ap-outpost/
LOCATION:Convention Hall\, 1300 Ocean Ave\, Asbury Park\, NJ\, 07712\, United States
ATTACH;FMTTYPE=image/jpeg:https://springsteencenter.org/wp-content/uploads/sites/1218/2024/08/nickibook.jpg
ORGANIZER;CN="Bruce Springsteen Center for American Music":MAILTO:happenings@springsteenarchives.org
END:VEVENT
END:VCALENDAR