BEGIN:VCALENDAR
VERSION:2.0
PRODID:-//Bruce Springsteen Center for American Music - ECPv6.15.20//NONSGML v1.0//EN
CALSCALE:GREGORIAN
METHOD:PUBLISH
X-WR-CALNAME:Bruce Springsteen Center for American Music
X-ORIGINAL-URL:https://springsteencenter.org
X-WR-CALDESC:Events for Bruce Springsteen Center for American Music
REFRESH-INTERVAL;VALUE=DURATION:PT1H
X-Robots-Tag:noindex
X-PUBLISHED-TTL:PT1H
BEGIN:VTIMEZONE
TZID:America/New_York
BEGIN:DAYLIGHT
TZOFFSETFROM:-0500
TZOFFSETTO:-0400
TZNAME:EDT
DTSTART:20230312T070000
END:DAYLIGHT
BEGIN:STANDARD
TZOFFSETFROM:-0400
TZOFFSETTO:-0500
TZNAME:EST
DTSTART:20231105T060000
END:STANDARD
BEGIN:DAYLIGHT
TZOFFSETFROM:-0500
TZOFFSETTO:-0400
TZNAME:EDT
DTSTART:20240310T070000
END:DAYLIGHT
BEGIN:STANDARD
TZOFFSETFROM:-0400
TZOFFSETTO:-0500
TZNAME:EST
DTSTART:20241103T060000
END:STANDARD
BEGIN:DAYLIGHT
TZOFFSETFROM:-0500
TZOFFSETTO:-0400
TZNAME:EDT
DTSTART:20250309T070000
END:DAYLIGHT
BEGIN:STANDARD
TZOFFSETFROM:-0400
TZOFFSETTO:-0500
TZNAME:EST
DTSTART:20251102T060000
END:STANDARD
END:VTIMEZONE
BEGIN:VEVENT
DTSTART;TZID=America/New_York:20240904T190000
DTEND;TZID=America/New_York:20240904T190000
DTSTAMP:20260421T042144
CREATED:20250326T201517Z
LAST-MODIFIED:20250326T201517Z
UID:13350-1725476400-1725476400@springsteencenter.org
SUMMARY:Conversations with our Curator - Nick Corasaniti
DESCRIPTION:BSACAM Curator\, Melissa Ziobro\, will be interviewing New York Times author\, Nick Corasaniti\, about his latest book\, “I Don’t Wanna Go Home” – An Oral History of the Stone Pony on September 4th at 7pm. This will be the 8th interview in this free\, monthly virtual series in which Professor Ziobro explores new perspectives in American music history with researchers and writers. Prior conversations have included Warren Zanes\, Jim Cullen and Holly George Warren. Audience Q&A will follow. The virtual conversation is free to the public and begins at 7pm. Registration is required
URL:https://springsteencenter.org/event/conversations-with-our-curator-nick-corasaniti/
ATTACH;FMTTYPE=image/jpeg:https://springsteencenter.org/wp-content/uploads/sites/1218/2024/07/Stone-Pony-CWOC-copy.jpg
ORGANIZER;CN="Bruce Springsteen Center for American Music":MAILTO:happenings@springsteenarchives.org
LOCATION:https://springsteencenter.org/event/conversations-with-our-curator-nick-corasaniti/
END:VEVENT
END:VCALENDAR