BEGIN:VCALENDAR
VERSION:2.0
PRODID:-//Bruce Springsteen Center for American Music - ECPv6.15.20//NONSGML v1.0//EN
CALSCALE:GREGORIAN
METHOD:PUBLISH
X-WR-CALNAME:Bruce Springsteen Center for American Music
X-ORIGINAL-URL:https://springsteencenter.org
X-WR-CALDESC:Events for Bruce Springsteen Center for American Music
REFRESH-INTERVAL;VALUE=DURATION:PT1H
X-Robots-Tag:noindex
X-PUBLISHED-TTL:PT1H
BEGIN:VTIMEZONE
TZID:America/New_York
BEGIN:DAYLIGHT
TZOFFSETFROM:-0500
TZOFFSETTO:-0400
TZNAME:EDT
DTSTART:20250309T070000
END:DAYLIGHT
BEGIN:STANDARD
TZOFFSETFROM:-0400
TZOFFSETTO:-0500
TZNAME:EST
DTSTART:20251102T060000
END:STANDARD
BEGIN:DAYLIGHT
TZOFFSETFROM:-0500
TZOFFSETTO:-0400
TZNAME:EDT
DTSTART:20260308T070000
END:DAYLIGHT
BEGIN:STANDARD
TZOFFSETFROM:-0400
TZOFFSETTO:-0500
TZNAME:EST
DTSTART:20261101T060000
END:STANDARD
BEGIN:DAYLIGHT
TZOFFSETFROM:-0500
TZOFFSETTO:-0400
TZNAME:EDT
DTSTART:20270314T070000
END:DAYLIGHT
BEGIN:STANDARD
TZOFFSETFROM:-0400
TZOFFSETTO:-0500
TZNAME:EST
DTSTART:20271107T060000
END:STANDARD
END:VTIMEZONE
BEGIN:VEVENT
DTSTART;TZID=America/New_York:20260916T190000
DTEND;TZID=America/New_York:20260916T190000
DTSTAMP:20260421T075610
CREATED:20251130T204837Z
LAST-MODIFIED:20251130T204837Z
UID:24757-1789585200-1789585200@springsteencenter.org
SUMMARY:Conversations with Our Curator - Gliders Over Hollywood: Airships\, Airplay\, and the Art of Rock Promotion (2025) with Paul Rappaport
DESCRIPTION:Gliders Over Hollywood: Airships\, Airplay\, and the Art of Rock Promotion (2025) \nPre-register here: https://monmouth.zoom.us/meeting/register/BFUkN2syRVmtEFKoWt1EbA \n“Conversations with our Curator” is a free\, monthly web series featuring BSACAM Director of Curatorial Affairs\, Melissa Ziobro\, in conversation with researchers and writers exploring new perspectives in American music history. Audience Q&A welcome. 
URL:https://springsteencenter.org/event/conversations-with-our-curator-gliders-over-hollywood-airships-airplay-and-the-art-of-rock-promotion-2025-with-paul-rappaport/
ATTACH;FMTTYPE=image/png:https://springsteencenter.org/wp-content/uploads/sites/1218/2025/11/Paul-Rappaport.png
ORGANIZER;CN="Bruce Springsteen Center for American Music":MAILTO:happenings@springsteenarchives.org
LOCATION:https://monmouth.zoom.us/meeting/register/BFUkN2syRVmtEFKoWt1EbA 
END:VEVENT
END:VCALENDAR