BEGIN:VCALENDAR
VERSION:2.0
PRODID:-//Bruce Springsteen Center for American Music - ECPv6.15.20//NONSGML v1.0//EN
CALSCALE:GREGORIAN
METHOD:PUBLISH
X-WR-CALNAME:Bruce Springsteen Center for American Music
X-ORIGINAL-URL:https://springsteencenter.org
X-WR-CALDESC:Events for Bruce Springsteen Center for American Music
REFRESH-INTERVAL;VALUE=DURATION:PT1H
X-Robots-Tag:noindex
X-PUBLISHED-TTL:PT1H
BEGIN:VTIMEZONE
TZID:America/New_York
BEGIN:DAYLIGHT
TZOFFSETFROM:-0500
TZOFFSETTO:-0400
TZNAME:EDT
DTSTART:20250309T070000
END:DAYLIGHT
BEGIN:STANDARD
TZOFFSETFROM:-0400
TZOFFSETTO:-0500
TZNAME:EST
DTSTART:20251102T060000
END:STANDARD
BEGIN:DAYLIGHT
TZOFFSETFROM:-0500
TZOFFSETTO:-0400
TZNAME:EDT
DTSTART:20260308T070000
END:DAYLIGHT
BEGIN:STANDARD
TZOFFSETFROM:-0400
TZOFFSETTO:-0500
TZNAME:EST
DTSTART:20261101T060000
END:STANDARD
BEGIN:DAYLIGHT
TZOFFSETFROM:-0500
TZOFFSETTO:-0400
TZNAME:EDT
DTSTART:20270314T070000
END:DAYLIGHT
BEGIN:STANDARD
TZOFFSETFROM:-0400
TZOFFSETTO:-0500
TZNAME:EST
DTSTART:20271107T060000
END:STANDARD
END:VTIMEZONE
BEGIN:VEVENT
DTSTART;TZID=America/New_York:20260513T190000
DTEND;TZID=America/New_York:20260513T190000
DTSTAMP:20260421T075445
CREATED:20251130T204307Z
LAST-MODIFIED:20251130T204307Z
UID:24744-1778698800-1778698800@springsteencenter.org
SUMMARY:Conversations with Our Curator - A Little More Love: The Life and Legacy of Olivia Newton-John (2026) with Matthew Hild
DESCRIPTION:A Little More Love: The Life and Legacy of Olivia Newton-John (2026) \nPre-register here: https://monmouth.zoom.us/meeting/register/Nw-rUjAOQ8iIuGBGK8DMdA \n“Conversations with our Curator” is a free\, monthly web series featuring BSACAM Director of Curatorial Affairs\, Melissa Ziobro\, in conversation with researchers and writers exploring new perspectives in American music history. Audience Q&A welcome. 
URL:https://springsteencenter.org/event/conversations-with-our-curator-a-little-more-love-the-life-and-legacy-of-olivia-newton-john-2026-with-matthew-hild/
ATTACH;FMTTYPE=image/png:https://springsteencenter.org/wp-content/uploads/sites/1218/2025/11/Matthew-Hild.png
ORGANIZER;CN="Bruce Springsteen Center for American Music":MAILTO:happenings@springsteenarchives.org
LOCATION:https://monmouth.zoom.us/meeting/register/Nw-rUjAOQ8iIuGBGK8DMdA
END:VEVENT
END:VCALENDAR