BEGIN:VCALENDAR
VERSION:2.0
PRODID:-//Bruce Springsteen Center for American Music - ECPv6.15.20//NONSGML v1.0//EN
CALSCALE:GREGORIAN
METHOD:PUBLISH
X-WR-CALNAME:Bruce Springsteen Center for American Music
X-ORIGINAL-URL:https://springsteencenter.org
X-WR-CALDESC:Events for Bruce Springsteen Center for American Music
REFRESH-INTERVAL;VALUE=DURATION:PT1H
X-Robots-Tag:noindex
X-PUBLISHED-TTL:PT1H
BEGIN:VTIMEZONE
TZID:America/New_York
BEGIN:DAYLIGHT
TZOFFSETFROM:-0500
TZOFFSETTO:-0400
TZNAME:EDT
DTSTART:20240310T070000
END:DAYLIGHT
BEGIN:STANDARD
TZOFFSETFROM:-0400
TZOFFSETTO:-0500
TZNAME:EST
DTSTART:20241103T060000
END:STANDARD
BEGIN:DAYLIGHT
TZOFFSETFROM:-0500
TZOFFSETTO:-0400
TZNAME:EDT
DTSTART:20250309T070000
END:DAYLIGHT
BEGIN:STANDARD
TZOFFSETFROM:-0400
TZOFFSETTO:-0500
TZNAME:EST
DTSTART:20251102T060000
END:STANDARD
BEGIN:DAYLIGHT
TZOFFSETFROM:-0500
TZOFFSETTO:-0400
TZNAME:EDT
DTSTART:20260308T070000
END:DAYLIGHT
BEGIN:STANDARD
TZOFFSETFROM:-0400
TZOFFSETTO:-0500
TZNAME:EST
DTSTART:20261101T060000
END:STANDARD
END:VTIMEZONE
BEGIN:VEVENT
DTSTART;TZID=America/New_York:20250510T140000
DTEND;TZID=America/New_York:20250510T170000
DTSTAMP:20260421T041536
CREATED:20250311T155518Z
LAST-MODIFIED:20250318T203154Z
UID:12138-1746885600-1746896400@springsteencenter.org
SUMMARY:2nd Annual Move On Up Gospel Sing-Off & Celebration!
DESCRIPTION:Registration Now Open for the 2nd Annual Move On Up Gospel Sing-Off & Celebration!\n .\n\n\nMove on Up! will take place on Saturday\, May 10th at 2pm in Pollak Theatre on the campus of Monmouth University.  Admission is free.  The winning choir will receive a $10\,000 cash prize to be used to improve any aspect of its ensemble.  The runner-up will receive a $5\,000 prize. A team of judges will select six entries to participate in a “sing-off” to determine the winner. Participants in this year’s sing-off will be announced April 1st. \n“Move on Up! celebrates our state’s wonderfully rich tradition of gospel music\,” said Springsteen Archives Programs Manager\, Jeri Houseworth\, the event’s producer.  “Gospel began in Black churches and is a vital part of African-American religious culture.  Gospel is also a foundation of American popular music.  Its influence can be heard in R&B\, soul\, rock\, and the blues.” \nAny New Jersey-based church or community choir can register for the event online.  Registration includes information about the choir\, plus a one song video not longer than five minutes.  Videos need not be professionally produced; videos recorded on cell phones or I-Pads are acceptable. \n“Move on Up! is less a competition than a celebration\,” added Robert Santelli\, executive director of the Bruce Springsteen Archives & Center for American Music.  “It’s a showcase of gospel talent\, a tribute to gospel music\, and a chance to award prize money to be used to elevate the contemporary sounds of the music.” \nThe Bruce Springsteen Archives & Center for American Music serves as the official repository for the music of Bruce Springsteen\, plus photographs\, periodicals\, oral histories\, rare recordings\, films\, and artifacts related to Springsteen and The E Street Band.  The Center for American Music produces museum exhibitions\, symposia and seminars\, teacher workshops\, concerts\, internships\, and various other public programs to promote and celebrate the many forms of American music and their impact on our culture and national identity. \n 
URL:https://springsteencenter.org/event/2nd-annual-move-on-up-gospel-sing-off-celebration/
LOCATION:Pollak Theatre\, 400 Cedar Avenue\, W. Long Branch\, NJ\, 07764\, United States
ATTACH;FMTTYPE=image/png:https://springsteencenter.org/wp-content/uploads/sites/1218/2025/03/MOU-SOCIAL-INSTA.png
ORGANIZER;CN="Bruce Springsteen Center for American Music":MAILTO:happenings@springsteenarchives.org
END:VEVENT
END:VCALENDAR